BEGIN:VCALENDAR
VERSION:2.0
PRODID:-//eventon.com NONSGML v1.0//EN
CALSCALE:GREGORIAN
METHOD:PUBLISH
BEGIN:VEVENT
UID:69e5f247321e0
DTSTAMP:20260420T093047Z
DTSTART:20190620T073000Z
DTEND:20190620T120000Z
LOCATION:Station Centraal
SUMMARY:Sortie annuelle visite d'un quartier en plein essor : Amsterdam Noord
DESCRIPTION:Le Ferry nous conduira hors des sentiers battus de la classique
  Amsterdam vers le quartier nord… Marjolijn nous guidera le long de l’I
 j :&nbsp;de Ceuvel qu’un groupe de personnes motivées a décidé de conv
 ertir en une pépinière d’entreprises créatives et sociales. D’ancien
 nes péniches ont été posées sur le sol\,  puis[..]\nhttps://www.amsterd
 amaccueil.com/events/sortie-annuelle-visite-dun-quartier-en-plein-essor-ams
 terdam-noord/
URL:https://www.amsterdamaccueil.com/events/sortie-annuelle-visite-dun-quartier-en-plein-essor-amsterdam-noord/
END:VEVENT
END:VCALENDAR