BEGIN:VCALENDAR
VERSION:2.0
PRODID:-//eventon.com NONSGML v1.0//EN
CALSCALE:GREGORIAN
METHOD:PUBLISH
BEGIN:VEVENT
UID:69e5f34861e5f
DTSTAMP:20260420T093504Z
DTSTART:20180913T080000Z
DTEND:20180913T103000Z
LOCATION:TAA 1er Ã©tage leidseplein 33\,  Amsterdam
SUMMARY:CafÃ© de rentrÃ©e et AssemblÃ©e gÃ©nÃ©rale
DESCRIPTION:Nouvelles arrivÃ©es ou habituÃ©es de l&#8217;association\,  c&#
 8217;est le moment de dÃ©couvrir autour d&#8217;un cafÃ© leÂ programme du 1
 er trimestre\,  de faire de nouvelles rencontres\,  de poser vos questions 
 ou de partager vos bons plans. Le cafÃ© sera suivi de l&#8217;AssemblÃ©e GÃ
 ©nÃ©rale. &nbsp; Rendez-vous : T.A.A. 1er Ã©tage\,  33 Leidseplein (en face
 [..]\nhttps://www.amsterdamaccueil.com/events/cafe-de-rentree-et-assemblee-
 generale/
URL:https://www.amsterdamaccueil.com/events/cafe-de-rentree-et-assemblee-generale/
END:VEVENT
END:VCALENDAR