BEGIN:VCALENDAR
VERSION:2.0
PRODID:-//eventon.com NONSGML v1.0//EN
CALSCALE:GREGORIAN
METHOD:PUBLISH
BEGIN:VEVENT
UID:69e6088fcae04
DTSTAMP:20260420T110551Z
DTSTART:20260523T141800Z
DTEND:20260523T151800Z
LOCATION:
SUMMARY:event test
DESCRIPTION:event test\nhttps://www.amsterdamaccueil.com/events/event-test/
URL:https://www.amsterdamaccueil.com/events/event-test/
END:VEVENT
END:VCALENDAR