BEGIN:VCALENDAR
VERSION:2.0
PRODID:-//eventon.com NONSGML v1.0//EN
CALSCALE:GREGORIAN
METHOD:PUBLISH
BEGIN:VEVENT
UID:69e609d14e464
DTSTAMP:20260420T111113Z
DTSTART:20260403T103000Z
DTEND:20260403T110000Z
LOCATION:
SUMMARY:Les mini concerts au Muziekgebouw aan 't IJ !
DESCRIPTION:Venez assister aux mini concerts au Muziekgebouw\,  les midis e
 n semaine de 12h30 à 13h. Au programme ce vendredi 03 avril à 12h30\,  au
  Muziekgebouw aan &#8216;t IJ\,  concert par la chorale du Conservatoire d&
 #8217;Amsterdam avec la Messe de Stravinsky et autres pièces. Prix de la p
 lace €6.50. Nous nous[..]\nhttps://www.amsterdamaccueil.com/events/les-mi
 ni-concerts-gratuits-du-concertgebouw-2/
URL:https://www.amsterdamaccueil.com/events/les-mini-concerts-gratuits-du-concertgebouw-2/
END:VEVENT
END:VCALENDAR