BEGIN:VCALENDAR
VERSION:2.0
PRODID:-//eventon.com NONSGML v1.0//EN
CALSCALE:GREGORIAN
METHOD:PUBLISH
BEGIN:VEVENT
UID:69e5f3f5ec753
DTSTAMP:20260420T093757Z
DTSTART:20260326T090000Z
DTEND:20260326T113000Z
LOCATION:
SUMMARY:Atelier Photographie\,  2nd session.
DESCRIPTION:Atelier Photographique Ces ateliers\,  animÃ©s Alexandre et Chr
 istophe\,  se dÃ©roulent en petit groupe de 10 participants\,  Ã  raison dâ
 €™une sÃ©ance par mois. En fonction du nombre dâ€™inscriptions\,  un second
  groupe pourra Ãªtre ouvert. Lâ€™objectif de cet atelier est de vous accomp
 agner dans la dÃ©couverte et lâ€™appropriation des principes fondamentaux d
 e[..]\nhttps://www.amsterdamaccueil.com/events/atelier-photographie/
URL:https://www.amsterdamaccueil.com/events/atelier-photographie/
END:VEVENT
END:VCALENDAR