BEGIN:VCALENDAR
VERSION:2.0
PRODID:-//eventon.com NONSGML v1.0//EN
CALSCALE:GREGORIAN
METHOD:PUBLISH
BEGIN:VEVENT
UID:69e5f23b3d24a
DTSTAMP:20260420T093035Z
DTSTART:20250322T100000Z
DTEND:20250322T113000Z
LOCATION:
SUMMARY:Expo Grand Dessert
DESCRIPTION:Du traditionnel « vlaflip » hollandais au buffet royal\,  du 
 baklava à la Charlotte Russe\,  de la crème anglaise et de la crème glac
 ée aux délicieux gâteaux : cet hiver\,  l&#8217;histoire et le plaisir d
 es desserts en Europe seront au cœur d&#8217;une nouvelle exposition au Ku
 nstmuseum Den Haag. Avec des[..]\nhttps://www.amsterdamaccueil.com/events/e
 xpo-grand-dessert/
URL:https://www.amsterdamaccueil.com/events/expo-grand-dessert/
END:VEVENT
END:VCALENDAR