BEGIN:VCALENDAR
VERSION:2.0
PRODID:-//eventon.com NONSGML v1.0//EN
CALSCALE:GREGORIAN
METHOD:PUBLISH
BEGIN:VEVENT
UID:69e5f6204f32b
DTSTAMP:20260420T094712Z
DTSTART:20240526T130000Z
DTEND:20240526T143000Z
LOCATION:
SUMMARY:Jeu de piste à De Pijp
DESCRIPTION:Le jeu de piste 2023 ayant été un grand succès auprès des p
 etits comme des grands\,  Claudie se propose de nous concocter un nouveau j
 eu de piste à pied dans un quartier d&#8217;Amsterdam. Retrouvons-nous tou
 s\,  parents\,  enfants et grands enfants que nous sommes pour résoudre un
 e énigme ! A la[..]\nhttps://www.amsterdamaccueil.com/events/jeu-de-piste-
 a-amsterdam-2/
URL:https://www.amsterdamaccueil.com/events/jeu-de-piste-a-amsterdam-2/
END:VEVENT
END:VCALENDAR