BEGIN:VCALENDAR
VERSION:2.0
PRODID:-//eventon.com NONSGML v1.0//EN
CALSCALE:GREGORIAN
METHOD:PUBLISH
BEGIN:VEVENT
UID:69e5f54d77626
DTSTAMP:20260420T094341Z
DTSTART:20240317T100000Z
DTEND:20240317T113000Z
LOCATION:
SUMMARY:Exposition Frans Hals
DESCRIPTION:Exceptionnellement productif\,  innovant\,  divertissant et pre
 sque espiègle\,  Frans Hals est l’un des peintres les plus marquants du 
 XVIIe siècle. Son style de peinture excentrique et libre est devenu si inf
 luent qu’on en oublierait presque qu’il en est le fondateur. Vous pourr
 ez admirer une cinquantaine de chefs-d’œuvre au Rijksmuseum pour cette[.
 .]\nhttps://www.amsterdamaccueil.com/events/exposition-frans-hals-au-rijksm
 useum/
URL:https://www.amsterdamaccueil.com/events/exposition-frans-hals-au-rijksmuseum/
END:VEVENT
END:VCALENDAR