BEGIN:VCALENDAR
VERSION:2.0
PRODID:-//eventon.com NONSGML v1.0//EN
CALSCALE:GREGORIAN
METHOD:PUBLISH
BEGIN:VEVENT
UID:69e5f2d21112b
DTSTAMP:20260420T093306Z
DTSTART:20230908T083000Z
DTEND:20230908T100000Z
LOCATION:
SUMMARY:Café de rentrée
DESCRIPTION:Venez nous retrouver autour d&#8217;un café&nbsp; pour faire c
 onnaissance de l&#8217;équipe d&#8217;Amsterdam Accueil si vous arrivez ou
  pour discuter tout simplement ! Ce sera l&#8217;occasion d&#8217;en appren
 dre davantage sur l&#8217;association et les nouvelles activités et vous i
 nscrire à l&#8217;année si vous le souhaitez. RDV à 10H30.&nbsp; Inscriv
 ez-vous PS : L&#8217;adresse[..]\nhttps://www.amsterdamaccueil.com/events/c
 afe-de-rentree-3/
URL:https://www.amsterdamaccueil.com/events/cafe-de-rentree-3/
END:VEVENT
END:VCALENDAR